Package: UCSC.utils Version: 1.3.1 Command: /home/biocbuild/bbs-3.21-bioc/R/bin/R CMD INSTALL UCSC.utils StartedAt: 2025-02-09 15:12:32 -0500 (Sun, 09 Feb 2025) EndedAt: 2025-02-09 15:12:36 -0500 (Sun, 09 Feb 2025) EllapsedTime: 4.4 seconds RetCode: 0 Status: OK