Package: UCSC.utils Version: 1.3.1 Command: rm -rf UCSC.utils.buildbin-libdir && mkdir UCSC.utils.buildbin-libdir && E:\biocbuild\bbs-3.21-bioc\R\bin\R.exe CMD INSTALL --build --library=UCSC.utils.buildbin-libdir UCSC.utils_1.3.1.tar.gz StartedAt: 2025-02-04 09:08:38 -0500 (Tue, 04 Feb 2025) EndedAt: 2025-02-04 09:09:00 -0500 (Tue, 04 Feb 2025) EllapsedTime: 22.0 seconds RetCode: 0 Status: OK PackageFile: UCSC.utils_1.3.1.zip PackageFileSize: 286.5 KiB