Package: UCSC.utils Version: 1.3.1 Command: chmod a+r UCSC.utils -R && E:\biocbuild\bbs-3.21-bioc\R\bin\R.exe CMD build --keep-empty-dirs --no-resave-data UCSC.utils StartedAt: 2025-02-09 22:13:29 -0500 (Sun, 09 Feb 2025) EndedAt: 2025-02-09 22:13:57 -0500 (Sun, 09 Feb 2025) EllapsedTime: 27.4 seconds RetCode: 0 Status: OK PackageFile: UCSC.utils_1.3.1.tar.gz PackageFileSize: 230.6 KiB