Package: UCSC.utils Version: 1.3.1 Command: E:\biocbuild\bbs-3.21-bioc\R\bin\R.exe CMD check --no-multiarch --install=check:UCSC.utils.install-out.txt --library=E:\biocbuild\bbs-3.21-bioc\R\library --no-vignettes --timings UCSC.utils_1.3.1.tar.gz StartedAt: 2025-02-10 06:26:45 -0500 (Mon, 10 Feb 2025) EndedAt: 2025-02-10 06:28:05 -0500 (Mon, 10 Feb 2025) EllapsedTime: 80.3 seconds RetCode: 0 Status: OK CheckDir: UCSC.utils.Rcheck Warnings: 0