Package: UCSC.utils Version: 1.3.1 Command: E:\biocbuild\bbs-3.21-bioc\R\bin\R.exe CMD INSTALL UCSC.utils StartedAt: 2025-02-03 15:42:22 -0500 (Mon, 03 Feb 2025) EndedAt: 2025-02-03 15:42:40 -0500 (Mon, 03 Feb 2025) EllapsedTime: 18.1 seconds RetCode: 0 Status: OK