Package: UCell Version: 2.11.1 Command: /Library/Frameworks/R.framework/Resources/bin/R CMD check --install=check:UCell.install-out.txt --library=/Library/Frameworks/R.framework/Resources/library --no-vignettes --timings UCell_2.11.1.tar.gz StartedAt: 2025-02-09 21:52:19 -0500 (Sun, 09 Feb 2025) EndedAt: 2025-02-09 21:53:33 -0500 (Sun, 09 Feb 2025) EllapsedTime: 73.9 seconds RetCode: 0 Status: OK CheckDir: UCell.Rcheck Warnings: 0