Package: UCell Version: 2.11.1 Command: /home/biocbuild/R/R/bin/R CMD check --install=check:UCell.install-out.txt --library=/home/biocbuild/R/R/site-library --no-vignettes --timings UCell_2.11.1.tar.gz StartedAt: 2025-01-27 13:45:07 -0000 (Mon, 27 Jan 2025) EndedAt: 2025-01-27 13:49:53 -0000 (Mon, 27 Jan 2025) EllapsedTime: 285.6 seconds RetCode: 0 Status: OK CheckDir: UCell.Rcheck Warnings: 0