Package: UCell Version: 2.11.1 Command: rm -rf UCell.buildbin-libdir && mkdir UCell.buildbin-libdir && /Users/biocbuild/BBS/utils/build-universal.sh UCell_2.11.1.tar.gz /Library/Frameworks/R.framework/Resources/bin/R UCell.buildbin-libdir StartedAt: 2025-02-10 01:21:46 -0500 (Mon, 10 Feb 2025) EndedAt: 2025-02-10 01:22:21 -0500 (Mon, 10 Feb 2025) EllapsedTime: 35.0 seconds RetCode: 0 Status: OK PackageFile: UCell_2.11.1.tgz PackageFileSize: 1.706 MiB