Package: UCell Version: 2.11.1 Command: /Library/Frameworks/R.framework/Resources/bin/R CMD build --keep-empty-dirs --no-resave-data UCell StartedAt: 2025-02-09 18:47:37 -0500 (Sun, 09 Feb 2025) EndedAt: 2025-02-09 18:53:11 -0500 (Sun, 09 Feb 2025) EllapsedTime: 333.7 seconds RetCode: 0 Status: OK PackageFile: UCell_2.11.1.tar.gz PackageFileSize: 1.672 MiB