Package: UCell Version: 2.11.1 Command: /home/biocbuild/bbs-3.21-bioc/R/bin/R CMD build --keep-empty-dirs --no-resave-data UCell StartedAt: 2025-02-09 19:41:21 -0500 (Sun, 09 Feb 2025) EndedAt: 2025-02-09 19:45:43 -0500 (Sun, 09 Feb 2025) EllapsedTime: 261.3 seconds RetCode: 0 Status: OK PackageFile: UCell_2.11.1.tar.gz PackageFileSize: 1.683 MiB