Package: UCell Version: 2.11.1 Command: /home/biocbuild/bbs-3.21-bioc/R/bin/R CMD check --install=check:UCell.install-out.txt --library=/home/biocbuild/bbs-3.21-bioc/R/site-library --timings UCell_2.11.1.tar.gz StartedAt: 2025-02-10 03:36:26 -0500 (Mon, 10 Feb 2025) EndedAt: 2025-02-10 03:44:23 -0500 (Mon, 10 Feb 2025) EllapsedTime: 476.6 seconds RetCode: 0 Status: OK CheckDir: UCell.Rcheck Warnings: 0