Package: UCell Version: 2.11.1 Command: /home/biocbuild/bbs-3.21-bioc/R/bin/R CMD INSTALL UCell StartedAt: 2025-02-09 15:18:38 -0500 (Sun, 09 Feb 2025) EndedAt: 2025-02-09 15:19:00 -0500 (Sun, 09 Feb 2025) EllapsedTime: 22.0 seconds RetCode: 0 Status: OK