Package: UCell Version: 2.11.1 Command: E:\biocbuild\bbs-3.21-bioc\R\bin\R.exe CMD check --no-multiarch --install=check:UCell.install-out.txt --library=E:\biocbuild\bbs-3.21-bioc\R\library --no-vignettes --timings UCell_2.11.1.tar.gz StartedAt: 2025-02-10 06:26:26 -0500 (Mon, 10 Feb 2025) EndedAt: 2025-02-10 06:29:57 -0500 (Mon, 10 Feb 2025) EllapsedTime: 210.6 seconds RetCode: 0 Status: OK CheckDir: UCell.Rcheck Warnings: 0