Package: UCell Version: 2.11.1 Command: E:\biocbuild\bbs-3.21-bioc\R\bin\R.exe CMD INSTALL UCell StartedAt: 2025-02-12 16:12:49 -0500 (Wed, 12 Feb 2025) EndedAt: 2025-02-12 16:13:20 -0500 (Wed, 12 Feb 2025) EllapsedTime: 31.0 seconds RetCode: 0 Status: OK