Package: UMI4Cats Version: 1.17.0 Command: /Library/Frameworks/R.framework/Resources/bin/R CMD check --install=check:UMI4Cats.install-out.txt --library=/Library/Frameworks/R.framework/Resources/library --no-vignettes --timings UMI4Cats_1.17.0.tar.gz StartedAt: 2025-02-12 21:57:25 -0500 (Wed, 12 Feb 2025) EndedAt: 2025-02-12 21:59:39 -0500 (Wed, 12 Feb 2025) EllapsedTime: 133.6 seconds RetCode: 0 Status: OK CheckDir: UMI4Cats.Rcheck Warnings: 0