Package: UMI4Cats Version: 1.17.0 Command: /home/biocbuild/R/R/bin/R CMD build --keep-empty-dirs --no-resave-data UMI4Cats StartedAt: 2025-01-28 03:05:14 -0000 (Tue, 28 Jan 2025) EndedAt: 2025-01-28 03:07:52 -0000 (Tue, 28 Jan 2025) EllapsedTime: 158.1 seconds RetCode: 0 Status: OK PackageFile: UMI4Cats_1.17.0.tar.gz PackageFileSize: 3.393 MiB