Package: UMI4Cats Version: 1.17.0 Command: /home/biocbuild/R/R/bin/R CMD check --install=check:UMI4Cats.install-out.txt --library=/home/biocbuild/R/R/site-library --no-vignettes --timings UMI4Cats_1.17.0.tar.gz StartedAt: 2025-01-27 13:45:38 -0000 (Mon, 27 Jan 2025) EndedAt: 2025-01-27 13:54:36 -0000 (Mon, 27 Jan 2025) EllapsedTime: 538.0 seconds RetCode: 0 Status: OK CheckDir: UMI4Cats.Rcheck Warnings: 0