Package: UMI4Cats Version: 1.17.0 Command: /home/biocbuild/R/R/bin/R CMD INSTALL UMI4Cats StartedAt: 2025-01-29 20:37:12 -0000 (Wed, 29 Jan 2025) EndedAt: 2025-01-29 20:38:09 -0000 (Wed, 29 Jan 2025) EllapsedTime: 57.5 seconds RetCode: 0 Status: OK