Package: UMI4Cats Version: 1.17.0 Command: rm -rf UMI4Cats.buildbin-libdir && mkdir UMI4Cats.buildbin-libdir && /Users/biocbuild/BBS/utils/build-universal.sh UMI4Cats_1.17.0.tar.gz /Library/Frameworks/R.framework/Resources/bin/R UMI4Cats.buildbin-libdir StartedAt: 2025-02-05 01:07:31 -0500 (Wed, 05 Feb 2025) EndedAt: 2025-02-05 01:08:31 -0500 (Wed, 05 Feb 2025) EllapsedTime: 60.0 seconds RetCode: 0 Status: OK PackageFile: UMI4Cats_1.17.0.tgz PackageFileSize: 3.312 MiB