Package: UMI4Cats Version: 1.17.0 Command: /Library/Frameworks/R.framework/Resources/bin/R CMD check --install=check:UMI4Cats.install-out.txt --library=/Library/Frameworks/R.framework/Resources/library --no-vignettes --timings UMI4Cats_1.17.0.tar.gz StartedAt: 2025-02-04 23:57:15 -0500 (Tue, 04 Feb 2025) EndedAt: 2025-02-05 00:05:19 -0500 (Wed, 05 Feb 2025) EllapsedTime: 484.3 seconds RetCode: 0 Status: OK CheckDir: UMI4Cats.Rcheck Warnings: 0