Package: UMI4Cats Version: 1.17.0 Command: /Library/Frameworks/R.framework/Resources/bin/R CMD INSTALL UMI4Cats StartedAt: 2025-02-04 15:44:30 -0500 (Tue, 04 Feb 2025) EndedAt: 2025-02-04 15:45:18 -0500 (Tue, 04 Feb 2025) EllapsedTime: 48.3 seconds RetCode: 0 Status: OK