Package: UMI4Cats Version: 1.17.0 Command: /home/biocbuild/bbs-3.21-bioc/R/bin/R CMD check --install=check:UMI4Cats.install-out.txt --library=/home/biocbuild/bbs-3.21-bioc/R/site-library --timings UMI4Cats_1.17.0.tar.gz StartedAt: 2025-02-05 03:43:43 -0500 (Wed, 05 Feb 2025) EndedAt: 2025-02-05 03:50:25 -0500 (Wed, 05 Feb 2025) EllapsedTime: 402.5 seconds RetCode: 0 Status: OK CheckDir: UMI4Cats.Rcheck Warnings: 0