Package: UMI4Cats Version: 1.17.0 Command: /home/biocbuild/bbs-3.21-bioc/R/bin/R CMD INSTALL UMI4Cats StartedAt: 2025-02-04 15:55:43 -0500 (Tue, 04 Feb 2025) EndedAt: 2025-02-04 15:56:25 -0500 (Tue, 04 Feb 2025) EllapsedTime: 42.3 seconds RetCode: 0 Status: OK