Package: UMI4Cats Version: 1.17.0 Command: chmod a+r UMI4Cats -R && E:\biocbuild\bbs-3.21-bioc\R\bin\R.exe CMD build --keep-empty-dirs --no-resave-data UMI4Cats StartedAt: 2025-02-12 22:20:55 -0500 (Wed, 12 Feb 2025) EndedAt: 2025-02-12 22:22:15 -0500 (Wed, 12 Feb 2025) EllapsedTime: 80.7 seconds RetCode: 1 Status: ERROR PackageFile: None PackageFileSize: NA