Package: UNDO Version: 1.49.0 Command: /Library/Frameworks/R.framework/Resources/bin/R CMD check --install=check:UNDO.install-out.txt --library=/Library/Frameworks/R.framework/Resources/library --no-vignettes --timings UNDO_1.49.0.tar.gz StartedAt: 2025-02-10 00:18:01 -0500 (Mon, 10 Feb 2025) EndedAt: 2025-02-10 00:18:43 -0500 (Mon, 10 Feb 2025) EllapsedTime: 41.6 seconds RetCode: 0 Status: OK CheckDir: UNDO.Rcheck Warnings: 0