Package: UNDO Version: 1.49.0 Command: /Library/Frameworks/R.framework/Resources/bin/R CMD INSTALL UNDO StartedAt: 2025-02-09 15:05:09 -0500 (Sun, 09 Feb 2025) EndedAt: 2025-02-09 15:05:29 -0500 (Sun, 09 Feb 2025) EllapsedTime: 20.1 seconds RetCode: 0 Status: OK