Package: UNDO Version: 1.49.0 Command: /home/biocbuild/bbs-3.21-bioc/R/bin/R CMD build --keep-empty-dirs --no-resave-data UNDO StartedAt: 2025-02-09 19:41:49 -0500 (Sun, 09 Feb 2025) EndedAt: 2025-02-09 19:41:58 -0500 (Sun, 09 Feb 2025) EllapsedTime: 9.0 seconds RetCode: 0 Status: OK PackageFile: UNDO_1.49.0.tar.gz PackageFileSize: 2.853 MiB