Package: UNDO Version: 1.49.0 Command: chmod a+r UNDO -R && E:\biocbuild\bbs-3.21-bioc\R\bin\R.exe CMD build --keep-empty-dirs --no-resave-data UNDO StartedAt: 2025-02-09 22:13:45 -0500 (Sun, 09 Feb 2025) EndedAt: 2025-02-09 22:14:09 -0500 (Sun, 09 Feb 2025) EllapsedTime: 23.6 seconds RetCode: 0 Status: OK PackageFile: UNDO_1.49.0.tar.gz PackageFileSize: 2.784 MiB