Package: UPDhmm Version: 1.3.0 Command: /Library/Frameworks/R.framework/Resources/bin/R CMD check --install=check:UPDhmm.install-out.txt --library=/Library/Frameworks/R.framework/Resources/library --no-vignettes --timings UPDhmm_1.3.0.tar.gz StartedAt: 2025-02-05 21:57:59 -0500 (Wed, 05 Feb 2025) EndedAt: 2025-02-05 21:58:29 -0500 (Wed, 05 Feb 2025) EllapsedTime: 29.3 seconds RetCode: 0 Status: OK CheckDir: UPDhmm.Rcheck Warnings: 0