Package: UPDhmm Version: 1.3.0 Command: /Library/Frameworks/R.framework/Resources/bin/R CMD check --install=check:UPDhmm.install-out.txt --library=/Library/Frameworks/R.framework/Resources/library --no-vignettes --timings UPDhmm_1.3.0.tar.gz StartedAt: 2025-02-11 00:33:39 -0500 (Tue, 11 Feb 2025) EndedAt: 2025-02-11 00:34:52 -0500 (Tue, 11 Feb 2025) EllapsedTime: 73.1 seconds RetCode: 0 Status: OK CheckDir: UPDhmm.Rcheck Warnings: 0