Package: Ularcirc Version: 1.25.0 Command: rm -rf Ularcirc.buildbin-libdir && mkdir Ularcirc.buildbin-libdir && /Users/biocbuild/BBS/utils/build-universal.sh Ularcirc_1.25.0.tar.gz /Library/Frameworks/R.framework/Resources/bin/R Ularcirc.buildbin-libdir StartedAt: 2025-02-04 22:36:05 -0500 (Tue, 04 Feb 2025) EndedAt: 2025-02-04 22:36:10 -0500 (Tue, 04 Feb 2025) EllapsedTime: 5.1 seconds RetCode: 0 Status: OK PackageFile: Ularcirc_1.25.0.tgz PackageFileSize: 4.852 MiB