Package: Ularcirc Version: 1.25.0 Command: /Library/Frameworks/R.framework/Resources/bin/R CMD build --keep-empty-dirs --no-resave-data Ularcirc StartedAt: 2025-02-04 17:52:25 -0500 (Tue, 04 Feb 2025) EndedAt: 2025-02-04 17:52:31 -0500 (Tue, 04 Feb 2025) EllapsedTime: 6.1 seconds RetCode: 0 Status: OK PackageFile: Ularcirc_1.25.0.tar.gz PackageFileSize: 5.214 MiB