Package: Ularcirc Version: 1.25.0 Command: /home/biocbuild/R/R/bin/R CMD check --install=check:Ularcirc.install-out.txt --library=/home/biocbuild/R/R/site-library --no-vignettes --timings Ularcirc_1.25.0.tar.gz StartedAt: 2025-01-27 13:45:19 -0000 (Mon, 27 Jan 2025) EndedAt: 2025-01-27 13:47:47 -0000 (Mon, 27 Jan 2025) EllapsedTime: 147.3 seconds RetCode: 0 Status: WARNINGS CheckDir: Ularcirc.Rcheck Warnings: 1