Package: Ularcirc Version: 1.25.0 Command: rm -rf Ularcirc.buildbin-libdir && mkdir Ularcirc.buildbin-libdir && /Users/biocbuild/BBS/utils/build-universal.sh Ularcirc_1.25.0.tar.gz /Library/Frameworks/R.framework/Resources/bin/R Ularcirc.buildbin-libdir StartedAt: 2025-02-05 01:07:29 -0500 (Wed, 05 Feb 2025) EndedAt: 2025-02-05 01:07:47 -0500 (Wed, 05 Feb 2025) EllapsedTime: 17.5 seconds RetCode: 0 Status: OK PackageFile: Ularcirc_1.25.0.tgz PackageFileSize: 4.851 MiB