Package: Ularcirc Version: 1.25.0 Command: /Library/Frameworks/R.framework/Resources/bin/R CMD check --install=check:Ularcirc.install-out.txt --library=/Library/Frameworks/R.framework/Resources/library --no-vignettes --timings Ularcirc_1.25.0.tar.gz StartedAt: 2025-02-04 23:57:15 -0500 (Tue, 04 Feb 2025) EndedAt: 2025-02-05 00:02:18 -0500 (Wed, 05 Feb 2025) EllapsedTime: 303.0 seconds RetCode: 0 Status: WARNINGS CheckDir: Ularcirc.Rcheck Warnings: 1