Package: Ularcirc Version: 1.25.0 Command: /Library/Frameworks/R.framework/Resources/bin/R CMD INSTALL Ularcirc StartedAt: 2025-02-04 15:26:52 -0500 (Tue, 04 Feb 2025) EndedAt: 2025-02-04 15:27:06 -0500 (Tue, 04 Feb 2025) EllapsedTime: 14.2 seconds RetCode: 0 Status: OK