Package: Ularcirc Version: 1.25.0 Command: /home/biocbuild/bbs-3.21-bioc/R/bin/R CMD build --keep-empty-dirs --no-resave-data Ularcirc StartedAt: 2025-02-04 19:39:06 -0500 (Tue, 04 Feb 2025) EndedAt: 2025-02-04 19:39:19 -0500 (Tue, 04 Feb 2025) EllapsedTime: 13.0 seconds RetCode: 0 Status: OK PackageFile: Ularcirc_1.25.0.tar.gz PackageFileSize: 5.214 MiB