Package: Ularcirc Version: 1.25.0 Command: E:\biocbuild\bbs-3.21-bioc\R\bin\R.exe CMD check --no-multiarch --install=check:Ularcirc.install-out.txt --library=E:\biocbuild\bbs-3.21-bioc\R\library --no-vignettes --timings Ularcirc_1.25.0.tar.gz StartedAt: 2025-02-10 06:26:50 -0500 (Mon, 10 Feb 2025) EndedAt: 2025-02-10 06:28:48 -0500 (Mon, 10 Feb 2025) EllapsedTime: 118.0 seconds RetCode: 0 Status: WARNINGS CheckDir: Ularcirc.Rcheck Warnings: 1