Package: Ularcirc Version: 1.25.0 Command: E:\biocbuild\bbs-3.21-bioc\R\bin\R.exe CMD INSTALL Ularcirc StartedAt: 2025-02-04 16:06:52 -0500 (Tue, 04 Feb 2025) EndedAt: 2025-02-04 16:07:15 -0500 (Tue, 04 Feb 2025) EllapsedTime: 23.0 seconds RetCode: 0 Status: OK