Package: UniProt.ws Version: 2.47.6 Maintainer: Marcel Ramos MaintainerEmail: marcel.ramos at sph.cuny.edu git_url: https://git.bioconductor.org/packages/UniProt.ws git_branch: devel git_last_commit: 1c38b61 git_last_commit_date: 2025-01-01 22:29:04 -0500 (Wed, 01 Jan 2025)