Package: UniProt.ws Version: 2.47.6 Command: rm -rf UniProt.ws.buildbin-libdir && mkdir UniProt.ws.buildbin-libdir && /Users/biocbuild/BBS/utils/build-universal.sh UniProt.ws_2.47.6.tar.gz /Library/Frameworks/R.framework/Resources/bin/R UniProt.ws.buildbin-libdir StartedAt: 2025-02-09 22:34:22 -0500 (Sun, 09 Feb 2025) EndedAt: 2025-02-09 22:34:29 -0500 (Sun, 09 Feb 2025) EllapsedTime: 7.2 seconds RetCode: 0 Status: OK PackageFile: UniProt.ws_2.47.6.tgz PackageFileSize: 493.4 KiB