Package: UniProt.ws Version: 2.47.6 Command: /Library/Frameworks/R.framework/Resources/bin/R CMD build --keep-empty-dirs --no-resave-data UniProt.ws StartedAt: 2025-02-09 17:52:10 -0500 (Sun, 09 Feb 2025) EndedAt: 2025-02-09 17:52:22 -0500 (Sun, 09 Feb 2025) EllapsedTime: 12.1 seconds RetCode: 0 Status: OK PackageFile: UniProt.ws_2.47.6.tar.gz PackageFileSize: 240.2 KiB