Package: UniProt.ws Version: 2.47.6 Command: /Library/Frameworks/R.framework/Resources/bin/R CMD INSTALL UniProt.ws StartedAt: 2025-02-09 15:07:08 -0500 (Sun, 09 Feb 2025) EndedAt: 2025-02-09 15:07:14 -0500 (Sun, 09 Feb 2025) EllapsedTime: 5.7 seconds RetCode: 0 Status: OK