Package: UniProt.ws Version: 2.47.6 Command: /home/biocbuild/R/R/bin/R CMD check --install=check:UniProt.ws.install-out.txt --library=/home/biocbuild/R/R/site-library --no-vignettes --timings UniProt.ws_2.47.6.tar.gz StartedAt: 2025-01-27 13:46:39 -0000 (Mon, 27 Jan 2025) EndedAt: 2025-01-27 13:50:17 -0000 (Mon, 27 Jan 2025) EllapsedTime: 217.4 seconds RetCode: 0 Status: OK CheckDir: UniProt.ws.Rcheck Warnings: 0