Package: UniProt.ws Version: 2.47.6 Command: /home/biocbuild/R/R/bin/R CMD INSTALL UniProt.ws StartedAt: 2025-01-29 19:44:39 -0000 (Wed, 29 Jan 2025) EndedAt: 2025-01-29 19:45:01 -0000 (Wed, 29 Jan 2025) EllapsedTime: 21.6 seconds RetCode: 0 Status: OK