Package: UniProt.ws Version: 2.47.6 Command: /Library/Frameworks/R.framework/Resources/bin/R CMD check --install=check:UniProt.ws.install-out.txt --library=/Library/Frameworks/R.framework/Resources/library --no-vignettes --timings UniProt.ws_2.47.6.tar.gz StartedAt: 2025-02-04 23:57:43 -0500 (Tue, 04 Feb 2025) EndedAt: 2025-02-05 00:03:23 -0500 (Wed, 05 Feb 2025) EllapsedTime: 340.4 seconds RetCode: 0 Status: OK CheckDir: UniProt.ws.Rcheck Warnings: 0