Package: UniProt.ws Version: 2.47.6 Command: /home/biocbuild/bbs-3.21-bioc/R/bin/R CMD check --install=check:UniProt.ws.install-out.txt --library=/home/biocbuild/bbs-3.21-bioc/R/site-library --timings UniProt.ws_2.47.6.tar.gz StartedAt: 2025-02-05 03:44:36 -0500 (Wed, 05 Feb 2025) EndedAt: 2025-02-05 03:46:56 -0500 (Wed, 05 Feb 2025) EllapsedTime: 140.2 seconds RetCode: 0 Status: OK CheckDir: UniProt.ws.Rcheck Warnings: 0