Package: UniProt.ws Version: 2.47.6 Command: rm -rf UniProt.ws.buildbin-libdir && mkdir UniProt.ws.buildbin-libdir && E:\biocbuild\bbs-3.21-bioc\R\bin\R.exe CMD INSTALL --build --library=UniProt.ws.buildbin-libdir UniProt.ws_2.47.6.tar.gz StartedAt: 2025-02-10 08:55:41 -0500 (Mon, 10 Feb 2025) EndedAt: 2025-02-10 08:56:25 -0500 (Mon, 10 Feb 2025) EllapsedTime: 44.0 seconds RetCode: 0 Status: OK PackageFile: UniProt.ws_2.47.6.zip PackageFileSize: 497.8 KiB