Package: UniProt.ws Version: 2.47.6 Command: chmod a+r UniProt.ws -R && E:\biocbuild\bbs-3.21-bioc\R\bin\R.exe CMD build --keep-empty-dirs --no-resave-data UniProt.ws StartedAt: 2025-02-09 22:13:58 -0500 (Sun, 09 Feb 2025) EndedAt: 2025-02-09 22:14:39 -0500 (Sun, 09 Feb 2025) EllapsedTime: 41.3 seconds RetCode: 0 Status: OK PackageFile: UniProt.ws_2.47.6.tar.gz PackageFileSize: 240.4 KiB