Package: UniProt.ws Version: 2.47.6 Command: E:\biocbuild\bbs-3.21-bioc\R\bin\R.exe CMD INSTALL UniProt.ws StartedAt: 2025-02-09 15:44:04 -0500 (Sun, 09 Feb 2025) EndedAt: 2025-02-09 15:44:44 -0500 (Sun, 09 Feb 2025) EllapsedTime: 39.4 seconds RetCode: 0 Status: OK